BEGIN:VCALENDAR
VERSION:2.0
METHOD:PUBLISH
PRODID:-//hacksw/handcal//NONSGML v1.0//EN
BEGIN:VEVENT
DTSTAMP:20260424T161946Z
DTSTART:20250510T170000Z
DTEND:20250510T230000Z
UID:20250510T170000Z-20250510T230000Z-9605@rhodygarden.org
SUMMARY:Mother's Day Weekend
DESCRIPTION:Celebrate mom with a fun outing to the Rhododendron Specie
 s Botanical Garden! Experience the garden at peak bloom as you explore
  13 unique garden features. Shop from local and international artists\
 , dine on delicious cuisine from a food truck\, or browse rare and bea
 utiful botanicals for purchase from the onsite nursery. We hope to see
  you in the garden!\n\nADMISSION\n$12 - General Admission\n$9 - Senior
 s and Students\nFREE - Kids 12 and under and Military with ID\nInteres
 ted in volunteering? Email info@rhodygarden.org\nInterested in vending
 ? Email info@rhodygarden.org\nFor sponsorship opportunities email medi
 a@rhodygarden.org\n\n\n\n\nCALL FOR VOLUNTEERS!\nWe're looking for fri
 endly\, plant loving people to volunteer in the Visitor Center for an 
 hour to help hand out maps\, tally plants\, and general visitor direct
 ion and guidance. The Visitor Center is open from 10 a.m. to 4 p.m. an
 d we're hoping to fill every hour with a knowledgeable and friendly pl
 ant friend to help ensure visitors have an amazing experience at the g
 arden. Volunteers will receive a free day pass to attend Mother's Day 
 Weekend and Blue Poppy Day (which they can participate in before and/o
 r after their shift in the Visitor Center). Volunteers must commit to 
 coming to the garden for orientation the morning of event day between 
 8-9 AM or any time between now and event day.\n\nIf you're interested\
 , please email info@rhodygarden.org\n\nThank you for supporting the ga
 rden!
X-ALT-DESC;FMTTYPE=text/html:<p>Celebrate mom with a fun outing to the
  Rhododendron Species Botanical Garden! Experience the garden at peak 
 bloom as you explore 13 unique garden features. Shop from local and in
 ternational artists\, dine on delicious cuisine from a food truck\, or
  browse rare and beautiful botanicals for purchase from the onsite nur
 sery. We hope to see you in the garden!</p>\n<p><span style=color: #33
 66ff\;><strong>ADMISSION</strong></span><br>\n$12 &#8211\; General Adm
 ission<br>\n$9 &#8211\; Seniors and Students<br>\nFREE &#8211\; Kids 1
 2 and under and Military with ID</p>\n<h4>Interested in volunteering? 
 Email <a href=mailto:info@rhodygarden.org>info@rhodygarden.org</a></h4
 >\n<p><strong>Interested in vending? Email <a href=mailto:info@rhodyga
 rden.org>info@rhodygarden.org</a></strong></p>\n<h4>For sponsorship op
 portunities email <a href=mailto:media@rhodygarden.org>media@rhodygard
 en.org</a></h4>\n\n<hr />\n<p><span style=color: #2a5746\;><strong>CAL
 L FOR VOLUNTEERS!</strong></span><br>\nWe&#8217\;re looking for friend
 ly\, plant loving people to volunteer in the Visitor Center for an hou
 r to help hand out maps\, tally plants\, and general visitor direction
  and guidance. The Visitor Center is open from 10 a.m. to 4 p.m. and w
 e&#8217\;re hoping to fill every hour with a knowledgeable and friendl
 y plant friend to help ensure visitors have an amazing experience at t
 he garden. Volunteers will receive a free day pass to attend Mother&#8
 217\;s Day Weekend and Blue Poppy Day (which they can participate in b
 efore and/or after their shift in the Visitor Center). Volunteers must
  commit to coming to the garden for orientation the morning of event d
 ay between 8-9 AM or any time between now and event day.</p>\n<p>If yo
 u&#8217\;re interested\, please email <a href=mailto:info@rhodygarden.
 org>info@rhodygarden.org</a></p>\n<p><strong>Thank you for supporting 
 the garden!</strong></p>\n
URL:https://rhodygarden.org/events/mothers-day-weekend-2025/?lang=en
ATTACH:https://rhodygarden.org/events/mothers-day-weekend-2025/?lang=e
 n
ATTACH:https://rhodygarden.org/c19/wp-content/uploads/2025/03/Event_We
 bpage-150x150.png
LOCATION:Rhododendron Species Botanical Garden\, 2525 S 336th St Feder
 al Way\, WA 98003\, Federal Way\, WA
END:VEVENT
END:VCALENDAR
