BEGIN:VCALENDAR
VERSION:2.0
METHOD:PUBLISH
PRODID:-//hacksw/handcal//NONSGML v1.0//EN
BEGIN:VEVENT
DTSTAMP:20260423T125801Z
DTSTART:20210423T071200Z
DTEND:20210424T191200Z
UID:20210423T071200Z-20210424T191200Z-9559@rhodygarden.org
SUMMARY:2021 RSBG Spring Plant Sale - Canceled
DESCRIPTION:We regret to announce that the 2021 RSBG Spring Plant Sale
  is canceled due to the pandemic.  While we are unable to host a large
  gathering\, the RSBG will create special shopping weekends with featu
 red vendors throughout spring.  Please continue to visit our website a
 nd Facebook page for updates. Thank you for your understanding and con
 tinued support.
X-ALT-DESC;FMTTYPE=text/html:<p><strong>We regret to announce that the
  2021 RSBG Spring Plant Sale is canceled due to the pandemic.  While w
 e are unable to host a large gathering\, the RSBG will create special 
 shopping weekends with featured vendors throughout spring.  Please con
 tinue to visit our website and Facebook page for updates. Thank you fo
 r your understanding and continued support.</strong></p>\n
URL:https://rhodygarden.org/events/2020-rsbg-spring-plant-sale/?lang=e
 n
ATTACH:https://rhodygarden.org/events/2020-rsbg-spring-plant-sale/?lan
 g=en
ATTACH:https://rhodygarden.org/c19/wp-content/uploads/2018/12/SPS2-150
 x150.jpg
LOCATION:Christian Faith Center - FW\, 33645 20TH AVE S\, FEDERAL WAY\
 ,
END:VEVENT
END:VCALENDAR
