BEGIN:VCALENDAR
VERSION:2.0
METHOD:PUBLISH
PRODID:-//hacksw/handcal//NONSGML v1.0//EN
BEGIN:VEVENT
DTSTAMP:20260424T213202Z
DTSTART:20191019T170000Z
DTEND:20191020T230000Z
UID:20191019T170000Z-20191020T230000Z-9555@rhodygarden.org
SUMMARY:Fall Foliage Festival and Plant Sale 2019
DESCRIPTION:Fantastic fall foliage is just minutes away! Celebrate aut
 umn with this FREE weekend festival that features plant sales\, a deli
 cious dumpling food truck\, plant talks\, tours\, a photo station\, an
 d activities for kids and families.\n\n\n \n\n\nPurchases of $50 or mo
 re in the Visitor Center or nursery will receive a garden pass for use
  on a future visit. \n\n\n \n\n\nSaturday:\n\n\nFREE Admission to the 
 garden\n\n\nFall Color Tour\n\n\nSpecial Vendors: Windcliff Plants and
  Bryan's Rare Japanese Maples\n\n\nActivities for kids and families\n\
 n\nAlaskan Dumplings food truck vending from 11am to 3pm\n\n\n \n\n\nS
 unday:\n\n\nFREE Admission to the garden\n\n\nFall Color Tour\n\n\nAct
 ivities for kids and families\n\n\n \n\n\nCheck back here for more inf
 ormation.\n\n \n\n \n\n 
X-ALT-DESC;FMTTYPE=text/html:<div class=>\n<div class=_1mf _1mj><span>
 Fantastic fall foliage is just minutes away! Celebrate autumn with thi
 s FREE weekend festival that features plant sales\, a delicious dumpli
 ng food truck\, plant talks\, tours\, a photo station\, and activities
  for kids and families.</span></div>\n</div>\n<div class=>\n<div class
 =_1mf _1mj><span> </span></div>\n</div>\n<div class=>\n<div class=_1mf
  _1mj><span>Purchases of $50 or more in the Visitor Center or nursery 
 will receive a garden pass for use on a future visit. </span></div>\n<
 /div>\n<div class=>\n<div class=_1mf _1mj><span> </span></div>\n</div>
 \n<div class=>\n<div class=_1mf _1mj><span>Saturday:</span></div>\n</d
 iv>\n<div class=>\n<div class=_1mf _1mj><span>FREE Admission to the ga
 rden</span></div>\n</div>\n<div class=>\n<div class=_1mf _1mj><span>Fa
 ll Color Tour</span></div>\n</div>\n<div class=>\n<div class=_1mf _1mj
 ><span>Special Vendors: Windcliff Plants and Bryan&#8217\;s Rare Japan
 ese Maples</span></div>\n</div>\n<div class=>\n<div class=_1mf _1mj><s
 pan>Activities for kids and families</span></div>\n</div>\n<div class=
 >\n<div class=_1mf _1mj><span class=_247o><span>Alaskan Dumplings</spa
 n></span><span> food truck vending from 11am to 3pm</span></div>\n</di
 v>\n<div class=>\n<div class=_1mf _1mj><span> </span></div>\n</div>\n<
 div class=>\n<div class=_1mf _1mj><span>Sunday:</span></div>\n</div>\n
 <div class=>\n<div class=_1mf _1mj><span>FREE Admission to the garden<
 /span></div>\n</div>\n<div class=>\n<div class=_1mf _1mj><span>Fall Co
 lor Tour</span></div>\n</div>\n<div class=>\n<div class=_1mf _1mj><spa
 n>Activities for kids and families</span></div>\n</div>\n<div class=>\
 n<div class=_1mf _1mj><span> </span></div>\n</div>\n<div class=>\n<div
  class=_1mf _1mj><span>Check back here for more information.</span></d
 iv>\n</div>\n<p>&nbsp\;</p>\n<p>&nbsp\;</p>\n<p>&nbsp\;</p>\n<div></di
 v>\n
URL:https://rhodygarden.org/events/fall-foliage-festival-and-plant-sal
 e-2018/?lang=en
ATTACH:https://rhodygarden.org/events/fall-foliage-festival-and-plant-
 sale-2018/?lang=en
ATTACH:https://rhodygarden.org/c19/wp-content/uploads/2018/05/FFF1-150
 x150.jpg
LOCATION:Rhododendron Species Botanical Garden\, 2525 S 336th St Feder
 al Way\, WA 98003\, Federal Way\, WA
END:VEVENT
END:VCALENDAR
