BEGIN:VCALENDAR
VERSION:2.0
METHOD:PUBLISH
PRODID:-//hacksw/handcal//NONSGML v1.0//EN
BEGIN:VEVENT
DTSTAMP:20260424T161442Z
DTSTART:20171021T170000Z
DTEND:20171028T230000Z
UID:20171021T170000Z-20171028T230000Z-9483@rhodygarden.org
SUMMARY:Foliage Festival & Plant Sale
DESCRIPTION:The Foliage Festival features \nFall color tours\, speaker
 s\, demonstrations and excellent deals on outstanding species rhododen
 drons\, companion plants and ferns.  \n\nWith every $50 purchase of RS
 BG plants\, customers will be rewarded with one free admission “Garden
  Pass” .\n\n In addition to the daily plant sales\, enjoy the special 
 focus days throughout the Festival:\n\n \n\nSaturday\, October 21: Ope
 ning Day\n\nDan Hinkley’s Windcliff Plants\n\n1 PM Pacific Bonsai Muse
 um Tour\n\n2 PM RSBG Fall Color Tour\n\n \n\nSunday\, October 22: Fall
  for Maples\n\nBlue Frog Nursery\n\n1 PM Demo: Charlie Morgan\, Amazin
 g Maples\n\n1 PM Pacific Bonsai Museum Tour\n\n2 PM RSBG Fall Color To
 ur\n\n \n\nMon-Thurs\, October 23-26\n\nGenerous Markdowns in RSBG Nur
 sery\n\n2 PM RSBG Color Tour\n\n \n\nFriday\, October 27: Fall for Fer
 ns\n\nRare Ferns for Sale\n\n1 PM Speaker: Jo Laskowski\, Hardy Fern F
 oundation\n\n1 PM Pacific Bonsai Museum Tour\n\n2 PM Fern Tour\n\n \n\
 nSaturday\, October 28: Fall for Bonsai\n\nNoon- 2 PM Bonsai Basics De
 mo\n\n1 PM Pacific Bonsai Museum Tour\n\n2 PM RSBG Fall Color Tour\n\n
  \n\n 
X-ALT-DESC;FMTTYPE=text/html:<h2></h2>\n<h2><b>The <span style=color: 
 #800000\;>Foliage Festival</span> features </b></h2>\n<p><b>Fall color
  tours\, speakers\, demonstrations and excellent deals on outstanding 
 species rhododendrons\, companion plants and ferns. <span style=color:
  #993300\;> </span></b></p>\n<p>With every $50 purchase of RSBG plants
 \, customers will be rewarded with one free admission “Garden Pass” .<
 /p>\n<p><b> In addition to the daily plant sales\, enjoy the special f
 ocus days throughout the Festival:</b></p>\n<p>&nbsp\;</p>\n<p><strong
 >Saturday\, October 21: Opening Day</strong></p>\n<p>Dan Hinkley’s Win
 dcliff Plants</p>\n<p>1 PM Pacific Bonsai Museum Tour</p>\n<p>2 PM RSB
 G Fall Color Tour</p>\n<p>&nbsp\;</p>\n<p><strong>Sunday\, October 22:
  Fall for Maples</strong></p>\n<p>Blue Frog Nursery</p>\n<p>1 PM Demo:
  Charlie Morgan\, Amazing Maples</p>\n<p>1 PM Pacific Bonsai Museum To
 ur</p>\n<p>2 PM RSBG Fall Color Tour</p>\n<p>&nbsp\;</p>\n<p><strong>M
 on-Thurs\, October 23-26</strong></p>\n<p>Generous Markdowns in RSBG N
 ursery</p>\n<p>2 PM RSBG Color Tour</p>\n<p>&nbsp\;</p>\n<p><strong>Fr
 iday\, October 27: Fall for Ferns</strong></p>\n<p>Rare Ferns for Sale
 </p>\n<p>1 PM Speaker: Jo Laskowski\, Hardy Fern Foundation</p>\n<p>1 
 PM Pacific Bonsai Museum Tour</p>\n<p>2 PM Fern Tour</p>\n<p>&nbsp\;</
 p>\n<p><strong>Saturday\, October 28: Fall for Bonsai</strong></p>\n<p
 >Noon- 2 PM Bonsai Basics Demo</p>\n<p>1 PM Pacific Bonsai Museum Tour
 </p>\n<p>2 PM RSBG Fall Color Tour</p>\n<p>&nbsp\;</p>\n<p>&nbsp\;</p>
 \n
URL:https://rhodygarden.org/events/foliage-festival-plant-sale/?lang=e
 n
ATTACH:https://rhodygarden.org/events/foliage-festival-plant-sale/?lan
 g=en
ATTACH:https://rhodygarden.org/c19/wp-content/uploads/2017/09/Cercidip
 hyllum-japonicum-542x292-150x150.jpg
LOCATION:Rhododendron Species Botanical Garden\, 2525 S 336th St Feder
 al Way\, WA 98003\, Federal Way\, WA
END:VEVENT
END:VCALENDAR
