BEGIN:VCALENDAR
VERSION:2.0
METHOD:PUBLISH
PRODID:-//hacksw/handcal//NONSGML v1.0//EN
BEGIN:VEVENT
DTSTAMP:20260423T115545Z
DTSTART:20131019T171500Z
DTEND:20131019T191500Z
UID:20131019T171500Z-20131019T191500Z-9442@rhodygarden.org
SUMMARY:Introduction to Flower Photography
DESCRIPTION:Oct. 19 \, 2013\, during Fall Foliage Festival Internation
 al Day\n	10:15 am to 12:15 pm\n	Cost: $40\, inclusive of Garden admiss
 ion\n	Instructor – Lesli Cohan\, Photographer & Owner of  Images Throu
 gh The Door Photography\n\nDownload Introduction_to_Flower_Photography
X-ALT-DESC;FMTTYPE=text/html:<ul>\n<li>Oct. 19 \, 2013\, during <a tit
 le=Fall Foliage Festival  href=https://rhodygarden.org/c19/events/9401
 /2013-fall-foliage-festival-plant-sale/>Fall Foliage Festival Internat
 ional Day</a></li>\n<li>10:15 am to 12:15 pm</li>\n<li>Cost: $40\, inc
 lusive of Garden admission</li>\n<li>Instructor – Lesli Cohan\, Photog
 rapher &amp\; Owner of  <a href=http://www.imagesthroughthedoor.com/>I
 mages Through The Door Photography</a></li>\n</ul>\n<p>Download<a href
 =https://rhodygarden.org/c19/wp-content/uploads/2013/08/Photography_-_
 FFF_2013.pdf target=_blank> Introduction_to_Flower_Photography</a></p>
 \n
URL:https://rhodygarden.org/events/introduction-to-flower-photography/
 ?lang=en
ATTACH:https://rhodygarden.org/events/introduction-to-flower-photograp
 hy/?lang=en
LOCATION:Rhododendron Species Botanical Garden\, 2525 S 336th St Feder
 al Way\, WA 98003\, Federal Way\, WA
END:VEVENT
END:VCALENDAR
