BEGIN:VCALENDAR
VERSION:2.0
METHOD:PUBLISH
PRODID:-//hacksw/handcal//NONSGML v1.0//EN
BEGIN:VEVENT
DTSTAMP:20260423T131726Z
DTSTART:20131026T170000Z
DTEND:20131026T230000Z
UID:20131026T170000Z-20131026T230000Z-9405@rhodygarden.org
SUMMARY:2013 FF Fern Day
DESCRIPTION:
X-ALT-DESC;FMTTYPE=text/html:
URL:https://rhodygarden.org/events/9405/2013-ff-fern-day/?lang=en
ATTACH:https://rhodygarden.org/events/9405/2013-ff-fern-day/?lang=en
LOCATION:Rhododendron Species Botanical Garden\, 2525 S 336th St Feder
 al Way\, WA 98003\, Federal Way\, WA
END:VEVENT
END:VCALENDAR
