BEGIN:VCALENDAR
VERSION:2.0
METHOD:PUBLISH
PRODID:-//hacksw/handcal//NONSGML v1.0//EN
BEGIN:VEVENT
DTSTAMP:20260423T132023Z
DTSTART:20131025T170000Z
DTEND:20131025T230000Z
UID:20131025T170000Z-20131025T230000Z-9404@rhodygarden.org
SUMMARY:2013 FF Bonsai Day
DESCRIPTION:
X-ALT-DESC;FMTTYPE=text/html:
URL:https://rhodygarden.org/events/9404/2013-ff-bonsai-day/?lang=en
ATTACH:https://rhodygarden.org/events/9404/2013-ff-bonsai-day/?lang=en
END:VEVENT
END:VCALENDAR
